BEGIN:VCALENDAR
VERSION:2.0
PRODID:-//Elevate Akron - ECPv6.15.20//NONSGML v1.0//EN
CALSCALE:GREGORIAN
METHOD:PUBLISH
X-WR-CALNAME:Elevate Akron
X-ORIGINAL-URL:https://elevateakron.com
X-WR-CALDESC:Events for Elevate Akron
REFRESH-INTERVAL;VALUE=DURATION:PT1H
X-Robots-Tag:noindex
X-PUBLISHED-TTL:PT1H
BEGIN:VTIMEZONE
TZID:UTC
BEGIN:STANDARD
TZOFFSETFROM:+0000
TZOFFSETTO:+0000
TZNAME:UTC
DTSTART:20220101T000000
END:STANDARD
END:VTIMEZONE
BEGIN:VEVENT
DTSTART;TZID=UTC:20230630T173000
DTEND;TZID=UTC:20230630T183000
DTSTAMP:20260424T183839
CREATED:20230531T195944Z
LAST-MODIFIED:20230626T163611Z
UID:1046-1688146200-1688149800@elevateakron.com
SUMMARY:Free Yoga in the Park - Reservoir Park
DESCRIPTION:June 30 – 730 Club Band – Rock\, Pop\, Soul & Blues \n\n\n\n\nYoga begins at 5:30 pm and music starts at 7! Bring your mat and a water bottle! \nSometimes Ohio weather doesn’t cooperate. So make sure to check for concert updates during the season by calling 330-375-2311 or visiting their facebook page – City of Akron Recreation and Parks
URL:https://elevateakron.com/event/free-yoga-in-the-park-reservoir-park-3/
LOCATION:Reservoir Park\, 1735 Hillside Terrace\, Akron\, Ohio\, 44305\, United States
CATEGORIES:Advanced,All Levels,Intermediate,Outdoor,Yoga in the Park
ATTACH;FMTTYPE=image/webp:https://elevateakron.com/wp-content/uploads/2023/05/summer-free-yoga.webp
END:VEVENT
BEGIN:VEVENT
DTSTART;TZID=UTC:20230628T173000
DTEND;TZID=UTC:20230628T183000
DTSTAMP:20260424T183839
CREATED:20230531T194446Z
LAST-MODIFIED:20230626T163427Z
UID:1044-1687973400-1687977000@elevateakron.com
SUMMARY:Free Yoga in the Park - Shadyside Park
DESCRIPTION:June 28 – One Fine Day – 60’s-80’s Pop \n\n\n\n\nYoga begins at 5:30 pm and music starts at 7! Bring your mat and a water bottle! \nSometimes Ohio weather doesn’t cooperate. So make sure to check for concert updates during the season by calling 330-375-2311 or visiting their facebook page – City of Akron Recreation and Parks
URL:https://elevateakron.com/event/free-yoga-in-the-park-shadyside-park-2/
LOCATION:Shadyside Park\, 1240 Kenmore Blvd\, Akron\, OH\, 44314\, United States
CATEGORIES:Advanced,All Levels,Beginners,Children,Intermediate,Outdoor,Yoga in the Park
ATTACH;FMTTYPE=image/webp:https://elevateakron.com/wp-content/uploads/2023/05/summer-free-yoga.webp
END:VEVENT
BEGIN:VEVENT
DTSTART;TZID=UTC:20230622T173000
DTEND;TZID=UTC:20230622T183000
DTSTAMP:20260424T183839
CREATED:20230531T193542Z
LAST-MODIFIED:20230531T193542Z
UID:1041-1687455000-1687458600@elevateakron.com
SUMMARY:Free Yoga in the Park - Patterson Park
DESCRIPTION:June 22 – Dirty Lookz – Funk Town\, Motown \n\n\n\n\nYoga begins at 5:30 pm and music starts at 7! Bring your mat and a water bottle! \nSometimes Ohio weather doesn’t cooperate. So make sure to check for concert updates during the season by calling 330-375-2311 or visiting their facebook page – City of Akron Recreation and Parks
URL:https://elevateakron.com/event/free-yoga-in-the-park-patterson-park/
LOCATION:Patterson Park\, 800 Patterson Ave\, Akron\, OH\, 44310\, United States
CATEGORIES:Advanced,All Levels,Beginners,Children,Intermediate,Outdoor,Yoga in the Park
ATTACH;FMTTYPE=image/png:https://elevateakron.com/wp-content/uploads/2023/05/summer-free-yoga.png
END:VEVENT
BEGIN:VEVENT
DTSTART;TZID=UTC:20230616T173000
DTEND;TZID=UTC:20230616T183000
DTSTAMP:20260424T183839
CREATED:20230531T192330Z
LAST-MODIFIED:20230531T192330Z
UID:1039-1686936600-1686940200@elevateakron.com
SUMMARY:Free Yoga in the Park - Reservoir Park
DESCRIPTION:June 16 – Blue Lunch – Big Blues Sound \n\n\n\n\nYoga begins at 5:30 pm and music starts at 7! Bring your mat and a water bottle! \nSometimes Ohio weather doesn’t cooperate. So make sure to check for concert updates during the season by calling 330-375-2311 or visiting their facebook page – City of Akron Recreation and Parks
URL:https://elevateakron.com/event/free-yoga-in-the-park-reservoir-park-2/
LOCATION:Reservoir Park\, 1735 Hillside Terrace\, Akron\, Ohio\, 44305\, United States
CATEGORIES:Advanced,All Levels,Beginners,Children,Intermediate,Outdoor,Yoga in the Park
ATTACH;FMTTYPE=image/png:https://elevateakron.com/wp-content/uploads/2023/05/summer-free-yoga.png
END:VEVENT
BEGIN:VEVENT
DTSTART;TZID=UTC:20230614T173000
DTEND;TZID=UTC:20230614T183000
DTSTAMP:20260424T183839
CREATED:20230531T191614Z
LAST-MODIFIED:20230531T191614Z
UID:1036-1686763800-1686767400@elevateakron.com
SUMMARY:Free Yoga in the Park- Shadyside Park
DESCRIPTION:June 14 – Time Machine – Classic Rock\, Motown\, 50’s-80’s \n\n\n\n\nYoga begins at 5:30 pm and music starts at 7! Bring your mat and a water bottle! \nSometimes Ohio weather doesn’t cooperate. So make sure to check for concert updates during the season by calling 330-375-2311 or visiting their facebook page – City of Akron Recreation and Parks
URL:https://elevateakron.com/event/free-yoga-in-the-park-shadyside-park/
LOCATION:Shadyside Park\, 1240 Kenmore Blvd\, Akron\, OH\, 44314\, United States
CATEGORIES:Advanced,All Levels,Beginners,Children,Intermediate,Outdoor,Yoga in the Park
ATTACH;FMTTYPE=image/png:https://elevateakron.com/wp-content/uploads/2023/05/summer-free-yoga.png
END:VEVENT
BEGIN:VEVENT
DTSTART;TZID=UTC:20230612T173000
DTEND;TZID=UTC:20230612T183000
DTSTAMP:20260424T183839
CREATED:20230531T190509Z
LAST-MODIFIED:20230531T190509Z
UID:1032-1686591000-1686594600@elevateakron.com
SUMMARY:Free Yoga in the Park - Hardesty Park
DESCRIPTION:June 12 – Wishgarden – Feel Good Indie & Roots Rock \n\n\n\n\nYoga begins at 5:30 pm and music starts at 7! Bring your mat and a water bottle! \nSometimes Ohio weather doesn’t cooperate. So make sure to check for concert updates during the season by calling 330-375-2311 or visiting their facebook page – City of Akron Recreation and Parks
URL:https://elevateakron.com/event/free-yoga-in-the-park-hardesty-park/
LOCATION:Hardesty Park\, 1615 W Market St\, Akron\, 44313\, United States
CATEGORIES:Advanced,All Levels,Beginners,Children,Intermediate,Outdoor,Yoga in the Park
ATTACH;FMTTYPE=image/png:https://elevateakron.com/wp-content/uploads/2023/05/summer-free-yoga.png
END:VEVENT
BEGIN:VEVENT
DTSTART;TZID=UTC:20230609T173000
DTEND;TZID=UTC:20230609T183000
DTSTAMP:20260424T183839
CREATED:20230531T185206Z
LAST-MODIFIED:20230531T185206Z
UID:1027-1686331800-1686335400@elevateakron.com
SUMMARY:Free Yoga in the Park - Reservoir Park
DESCRIPTION:June 9 – 45 RPM – 70’s radio tunes \n\n\n\n\nYoga begins at 5:30 pm and music starts at 7! Bring your mat and a water bottle! \nSometimes Ohio weather doesn’t cooperate. So make sure to check for concert updates during the season by calling 330-375-2311 or visiting their facebook page – City of Akron Recreation and Parks
URL:https://elevateakron.com/event/free-yoga-in-the-park-reservoir-park/
LOCATION:Reservoir Park\, 1735 Hillside Terrace\, Akron\, Ohio\, 44305\, United States
CATEGORIES:Advanced,All Levels,Beginners,Children,Intermediate,Outdoor,Yoga in the Park
ATTACH;FMTTYPE=image/png:https://elevateakron.com/wp-content/uploads/2023/05/summer-free-yoga.png
END:VEVENT
BEGIN:VEVENT
DTSTART;TZID=UTC:20230605T173000
DTEND;TZID=UTC:20230605T183000
DTSTAMP:20260424T183839
CREATED:20230518T233902Z
LAST-MODIFIED:20230531T185201Z
UID:909-1685986200-1685989800@elevateakron.com
SUMMARY:Free Yoga in the Park - Hardesty Park
DESCRIPTION:June 5 – Michael Eric Schirch – Contemporary & Smooth Jazz \n\n\n\n\nYoga begins at 5:30 pm and music starts at 7! Bring your mat and a water bottle! \nSometimes Ohio weather doesn’t cooperate. So make sure to check for concert updates during the season by calling 330-375-2311 or visiting their facebook page – City of Akron Recreation and Parks
URL:https://elevateakron.com/event/hardesty-park/
LOCATION:Hardesty Park\, 1615 W Market St\, Akron\, 44313\, United States
CATEGORIES:Advanced,All Levels,Beginners,Children,Intermediate,Outdoor,Yoga in the Park
ATTACH;FMTTYPE=image/png:https://elevateakron.com/wp-content/uploads/2023/05/summer-free-yoga.png
END:VEVENT
END:VCALENDAR