BEGIN:VCALENDAR
VERSION:2.0
PRODID:-//Elevate Akron - ECPv6.15.20//NONSGML v1.0//EN
CALSCALE:GREGORIAN
METHOD:PUBLISH
X-ORIGINAL-URL:https://elevateakron.com
X-WR-CALDESC:Events for Elevate Akron
REFRESH-INTERVAL;VALUE=DURATION:PT1H
X-Robots-Tag:noindex
X-PUBLISHED-TTL:PT1H
BEGIN:VTIMEZONE
TZID:UTC
BEGIN:STANDARD
TZOFFSETFROM:+0000
TZOFFSETTO:+0000
TZNAME:UTC
DTSTART:20220101T000000
END:STANDARD
END:VTIMEZONE
BEGIN:VEVENT
DTSTART;TZID=UTC:20231202T110000
DTEND;TZID=UTC:20231202T200000
DTSTAMP:20260424T183731
CREATED:20230911T202655Z
LAST-MODIFIED:20230918T005208Z
UID:2254-1701514800-1701547200@elevateakron.com
SUMMARY:10th Elevate Akron Yoga Festival
DESCRIPTION:Elevate Akron hosts 10th Yoga Festival\nJoin us Dec. 2 for an exciting day of community\, connection and immersion \nJoin us in celebration as we unite the Akron Yoga community through Elevate Akron’s highly-anticipated 10th Yoga Festival. The event\, featuring various styles of yoga\, a vibrant vendor market\, tasty food selections\, and live music\, will take place indoors at Our Lady of the Elms High School on Saturday\, December 2 from 11 am-8 pm. \nAmazing things happen when we unite around a common goal. Our mission at Elevate is to develop connection\, resiliency and wellbeing in our communities and we are thrilled to host our 10th community festival – one of the longest running Yoga events across the country! \nIn numerology\, 10 is a potent symbol of infinite possibilities and fresh starts\, representing expansion and wholeness. These energies work well together to provide a powerful combination that can lead to great success and accomplishment. Take time for YOU. The event provides a perfect opportunity to recharge and rediscover wholeness as we plunge into the holiday season. We hope you can join us in an effort to expand our consciousness and awareness by connecting with friends\, Yoga practitioners\, volunteers\, local businesses\, nonprofits and artists. \nFor more info go to https://elevateakron.com/2023-fall-yoga-festival. \nBuys tickets at https://10thelevateakronyogafestival.eventbrite.com/
URL:https://elevateakron.com/event/10th-elevate-akron-yoga-festival/
LOCATION:Our Lady of the Elms High School\, 1375 W Exchange St.\, Akron\, Ohio\, 44313
CATEGORIES:Advanced,All Levels,Beginners,Children,Intermediate,Lead Membership,Yoga Festival
ATTACH;FMTTYPE=image/png:https://elevateakron.com/wp-content/uploads/2023/09/december-2nd-2023-11am-8pm-3.png
END:VEVENT
BEGIN:VEVENT
DTSTART;VALUE=DATE:20230804
DTEND;VALUE=DATE:20230807
DTSTAMP:20260424T183731
CREATED:20230625T222905Z
LAST-MODIFIED:20230625T222905Z
UID:2138-1691107200-1691366399@elevateakron.com
SUMMARY:Elevate Akron Yoga Teacher Summit
DESCRIPTION:Registration is officially open for our first-ever Yoga Teacher Summit taking place Friday\, August 4-Sunday\, August 6 at a beautiful private location right here in Akron! \nWHAT IS THE ELEVATE AKRON YOGA TEACHER SUMMIT?\nWhen was the last time you gave yourself some time to relax\, reflect and recharge? Do you long for a stimulating and supportive setting in which to deepen your practice and enrich your spirit? As teachers\, we sometimes lose sight of our own needs\, but don’t worry — we got you! \nThe exciting Yoga Teacher Summit weekend kicks-off with unique continuing education courses led by prominent\, local yoga teachers\, followed-up by an opening reception\, and ends joyfully with a premier performance by the Elevate Akron Orchestra. Attendees are encouraged to connect with themselves\, and some of the best teachers in the region\, for a fun-filled weekend of movement\, music\, dance\, celebration and mindfulness. \nWHERE WILL THE EVENT BE HELD?\nDue to the private nature of the event space\, we are unable to publish location information. That said\, we promise “the spot” is as relaxing and idyllic as you can possibly imagine\, complete with a brand new luxury barn\, a pond\, pool\, hot tub and so much more! We’ve included a couple images in the graphic below. Note that this event is not an overnight event. If you need a place to stay\, there are lots of lodging options close by. \nWHO CAN ATTEND?\nAll CYT’s and RYT’s are invited to attend the full weekend. The event will provide a wonderful opportunity to interact with some of the best teachers in the region. \nLearn more about pricing and the full agenda here. \nNot a yoga teacher?\nNo problem! We invite you to join us for our special evening events including musical performances by the Elevate Akron Orchestra. Become a member of Elevate Akron and attend for FREE with just a small $10 parking fee! \nClick here to become a member.
URL:https://elevateakron.com/event/elevate-akron-yoga-teacher-summit/
LOCATION:Ohio
CATEGORIES:Lead Membership,Teacher Workshops
ATTACH;FMTTYPE=image/webp:https://elevateakron.com/wp-content/uploads/2023/06/strawberry-fields.webp
END:VEVENT
END:VCALENDAR